BEGIN:VCALENDAR
VERSION:2.0
PRODID:-//Center for Health Impact - ECPv6.15.20//NONSGML v1.0//EN
CALSCALE:GREGORIAN
METHOD:PUBLISH
X-WR-CALNAME:Center for Health Impact
X-ORIGINAL-URL:https://www.centerforhealthimpact.org
X-WR-CALDESC:Events for Center for Health Impact
REFRESH-INTERVAL;VALUE=DURATION:PT1H
X-Robots-Tag:noindex
X-PUBLISHED-TTL:PT1H
BEGIN:VTIMEZONE
TZID:America/New_York
BEGIN:DAYLIGHT
TZOFFSETFROM:-0500
TZOFFSETTO:-0400
TZNAME:EDT
DTSTART:20210314T070000
END:DAYLIGHT
BEGIN:STANDARD
TZOFFSETFROM:-0400
TZOFFSETTO:-0500
TZNAME:EST
DTSTART:20211107T060000
END:STANDARD
BEGIN:DAYLIGHT
TZOFFSETFROM:-0500
TZOFFSETTO:-0400
TZNAME:EDT
DTSTART:20220313T070000
END:DAYLIGHT
BEGIN:STANDARD
TZOFFSETFROM:-0400
TZOFFSETTO:-0500
TZNAME:EST
DTSTART:20221106T060000
END:STANDARD
BEGIN:DAYLIGHT
TZOFFSETFROM:-0500
TZOFFSETTO:-0400
TZNAME:EDT
DTSTART:20230312T070000
END:DAYLIGHT
BEGIN:STANDARD
TZOFFSETFROM:-0400
TZOFFSETTO:-0500
TZNAME:EST
DTSTART:20231105T060000
END:STANDARD
END:VTIMEZONE
BEGIN:VEVENT
DTSTART;TZID=America/New_York:20220404T180000
DTEND;TZID=America/New_York:20220404T210000
DTSTAMP:20260424T050133
CREATED:20220218T191002Z
LAST-MODIFIED:20220218T191002Z
UID:11427-1649095200-1649106000@www.centerforhealthimpact.org
SUMMARY:Medical Interpreter Training - Winter 2022
DESCRIPTION:Class 16: Language Coaching: 15 and 16
URL:https://www.centerforhealthimpact.org/calendar/medical-interpreter-training-winter-2022-16/
LOCATION:Zoom
CATEGORIES:General Training,Medical Interpreter Training
ORGANIZER;CN="Language Link":MAILTO:languagelink@centerforhealthimpact.org
END:VEVENT
BEGIN:VEVENT
DTSTART;TZID=America/New_York:20220405T180000
DTEND;TZID=America/New_York:20220405T210000
DTSTAMP:20260424T050133
CREATED:20220218T191645Z
LAST-MODIFIED:20220218T191919Z
UID:11458-1649181600-1649192400@www.centerforhealthimpact.org
SUMMARY:Medical Interpreter Training - Spring 2022
DESCRIPTION:Class 1: Course Overview and Introduction to the Field
URL:https://www.centerforhealthimpact.org/calendar/medical-interpreter-training-spring-2022/
LOCATION:Zoom
CATEGORIES:General Training,Medical Interpreter Training
ORGANIZER;CN="Language Link":MAILTO:languagelink@centerforhealthimpact.org
END:VEVENT
BEGIN:VEVENT
DTSTART;TZID=America/New_York:20220406T180000
DTEND;TZID=America/New_York:20220406T210000
DTSTAMP:20260424T050133
CREATED:20220218T191044Z
LAST-MODIFIED:20220218T191044Z
UID:11431-1649268000-1649278800@www.centerforhealthimpact.org
SUMMARY:Medical Interpreter Training - Winter 2022
DESCRIPTION:Class 17: Urinary System\, Mental Health and Pediatrics
URL:https://www.centerforhealthimpact.org/calendar/medical-interpreter-training-winter-2022-17/
LOCATION:Zoom
CATEGORIES:General Training,Medical Interpreter Training
ORGANIZER;CN="Language Link":MAILTO:languagelink@centerforhealthimpact.org
END:VEVENT
BEGIN:VEVENT
DTSTART;TZID=America/New_York:20220407T180000
DTEND;TZID=America/New_York:20220407T210000
DTSTAMP:20260424T050133
CREATED:20220218T191852Z
LAST-MODIFIED:20220218T191852Z
UID:11465-1649354400-1649365200@www.centerforhealthimpact.org
SUMMARY:Medical Interpreter Training - Spring 2022
DESCRIPTION:Class 2: Standards of Practice and Interpreter Roles
URL:https://www.centerforhealthimpact.org/calendar/medical-interpreter-training-spring-2022-2/
LOCATION:Zoom
CATEGORIES:General Training,Medical Interpreter Training
ORGANIZER;CN="Language Link":MAILTO:languagelink@centerforhealthimpact.org
END:VEVENT
BEGIN:VEVENT
DTSTART;TZID=America/New_York:20220411T180000
DTEND;TZID=America/New_York:20220411T210000
DTSTAMP:20260424T050133
CREATED:20220218T191121Z
LAST-MODIFIED:20220218T191121Z
UID:11435-1649700000-1649710800@www.centerforhealthimpact.org
SUMMARY:Medical Interpreter Training - Winter 2022
DESCRIPTION:Class 18: Language Coaching: 17 and 18
URL:https://www.centerforhealthimpact.org/calendar/medical-interpreter-training-winter-2022-18/
LOCATION:Zoom
CATEGORIES:General Training,Medical Interpreter Training
ORGANIZER;CN="Language Link":MAILTO:languagelink@centerforhealthimpact.org
END:VEVENT
BEGIN:VEVENT
DTSTART;TZID=America/New_York:20220412T180000
DTEND;TZID=America/New_York:20220412T210000
DTSTAMP:20260424T050133
CREATED:20220218T191955Z
LAST-MODIFIED:20220218T191955Z
UID:11469-1649786400-1649797200@www.centerforhealthimpact.org
SUMMARY:Medical Interpreter Training - Spring 2022
DESCRIPTION:Class 3: Code of Ethics\, HIPAA\, and Universal Precautions
URL:https://www.centerforhealthimpact.org/calendar/medical-interpreter-training-spring-2022-3/
LOCATION:Zoom
CATEGORIES:General Training,Medical Interpreter Training
ORGANIZER;CN="Language Link":MAILTO:languagelink@centerforhealthimpact.org
END:VEVENT
BEGIN:VEVENT
DTSTART;TZID=America/New_York:20220414T180000
DTEND;TZID=America/New_York:20220414T210000
DTSTAMP:20260424T050133
CREATED:20220218T192033Z
LAST-MODIFIED:20220218T192033Z
UID:11474-1649959200-1649970000@www.centerforhealthimpact.org
SUMMARY:Medical Interpreter Training - Spring 2022
DESCRIPTION:Class 4: Communication Skills and The Triadic Encounter
URL:https://www.centerforhealthimpact.org/calendar/medical-interpreter-training-spring-2022-4/
LOCATION:Zoom
CATEGORIES:General Training,Medical Interpreter Training
ORGANIZER;CN="Language Link":MAILTO:languagelink@centerforhealthimpact.org
END:VEVENT
BEGIN:VEVENT
DTSTART;TZID=America/New_York:20220419T180000
DTEND;TZID=America/New_York:20220419T210000
DTSTAMP:20260424T050133
CREATED:20220218T192434Z
LAST-MODIFIED:20220218T192434Z
UID:11487-1650391200-1650402000@www.centerforhealthimpact.org
SUMMARY:Medical Interpreter Training - Spring 2022
DESCRIPTION:Class 5: Cross Cultural Competency
URL:https://www.centerforhealthimpact.org/calendar/medical-interpreter-training-spring-2022-5/
LOCATION:Zoom
CATEGORIES:General Training,Medical Interpreter Training
ORGANIZER;CN="Language Link":MAILTO:languagelink@centerforhealthimpact.org
END:VEVENT
BEGIN:VEVENT
DTSTART;TZID=America/New_York:20220421T180000
DTEND;TZID=America/New_York:20220421T210000
DTSTAMP:20260424T050133
CREATED:20220218T192509Z
LAST-MODIFIED:20220218T192509Z
UID:11491-1650564000-1650574800@www.centerforhealthimpact.org
SUMMARY:Medical Interpreter Training - Spring 2022
DESCRIPTION:Class 6: The Medical Interview and Medical Terminology
URL:https://www.centerforhealthimpact.org/calendar/medical-interpreter-training-spring-2022-6/
LOCATION:Zoom
CATEGORIES:General Training,Medical Interpreter Training
ORGANIZER;CN="Language Link":MAILTO:languagelink@centerforhealthimpact.org
END:VEVENT
BEGIN:VEVENT
DTSTART;TZID=America/New_York:20220425T180000
DTEND;TZID=America/New_York:20220425T210000
DTSTAMP:20260424T050133
CREATED:20220218T191225Z
LAST-MODIFIED:20220218T191225Z
UID:11439-1650909600-1650920400@www.centerforhealthimpact.org
SUMMARY:Medical Interpreter Training - Winter 2022
DESCRIPTION:PRACTICUM – ROLE PLAYS/ORAL – FINAL TEST – SESSION 1
URL:https://www.centerforhealthimpact.org/calendar/medical-interpreter-training-winter-2022-19/
LOCATION:Zoom
CATEGORIES:General Training,Medical Interpreter Training
ORGANIZER;CN="Language Link":MAILTO:languagelink@centerforhealthimpact.org
END:VEVENT
BEGIN:VEVENT
DTSTART;TZID=America/New_York:20220426T180000
DTEND;TZID=America/New_York:20220426T210000
DTSTAMP:20260424T050133
CREATED:20220218T192547Z
LAST-MODIFIED:20220218T192547Z
UID:11495-1650996000-1651006800@www.centerforhealthimpact.org
SUMMARY:Medical Interpreter Training - Spring 2022
DESCRIPTION:Class 7: Digestive System and Reproductive Systems
URL:https://www.centerforhealthimpact.org/calendar/medical-interpreter-training-spring-2022-7/
LOCATION:Zoom
CATEGORIES:General Training,Medical Interpreter Training
ORGANIZER;CN="Language Link":MAILTO:languagelink@centerforhealthimpact.org
END:VEVENT
BEGIN:VEVENT
DTSTART;TZID=America/New_York:20220427T180000
DTEND;TZID=America/New_York:20220427T210000
DTSTAMP:20260424T050133
CREATED:20220218T191254Z
LAST-MODIFIED:20220218T191254Z
UID:11444-1651082400-1651093200@www.centerforhealthimpact.org
SUMMARY:Medical Interpreter Training - Winter 2022
DESCRIPTION:PRACTICUM – ROLE PLAYS/ORAL – FINAL TEST – SESSION 2
URL:https://www.centerforhealthimpact.org/calendar/medical-interpreter-training-winter-2022-20/
LOCATION:Zoom
CATEGORIES:General Training,Medical Interpreter Training
ORGANIZER;CN="Language Link":MAILTO:languagelink@centerforhealthimpact.org
END:VEVENT
BEGIN:VEVENT
DTSTART;TZID=America/New_York:20220428T180000
DTEND;TZID=America/New_York:20220428T210000
DTSTAMP:20260424T050133
CREATED:20220218T192627Z
LAST-MODIFIED:20220218T192627Z
UID:11499-1651168800-1651179600@www.centerforhealthimpact.org
SUMMARY:Medical Interpreter Training - Spring 2022
DESCRIPTION:Class 8: Language Coaching: 7 and 8
URL:https://www.centerforhealthimpact.org/calendar/medical-interpreter-training-spring-2022-8/
LOCATION:Zoom
CATEGORIES:General Training,Medical Interpreter Training
ORGANIZER;CN="Language Link":MAILTO:languagelink@centerforhealthimpact.org
END:VEVENT
END:VCALENDAR