BEGIN:VCALENDAR
VERSION:2.0
PRODID:-//Center for Health Impact - ECPv6.15.20//NONSGML v1.0//EN
CALSCALE:GREGORIAN
METHOD:PUBLISH
X-ORIGINAL-URL:https://www.centerforhealthimpact.org
X-WR-CALDESC:Events for Center for Health Impact
REFRESH-INTERVAL;VALUE=DURATION:PT1H
X-Robots-Tag:noindex
X-PUBLISHED-TTL:PT1H
BEGIN:VTIMEZONE
TZID:America/New_York
BEGIN:DAYLIGHT
TZOFFSETFROM:-0500
TZOFFSETTO:-0400
TZNAME:EDT
DTSTART:20220313T070000
END:DAYLIGHT
BEGIN:STANDARD
TZOFFSETFROM:-0400
TZOFFSETTO:-0500
TZNAME:EST
DTSTART:20221106T060000
END:STANDARD
BEGIN:DAYLIGHT
TZOFFSETFROM:-0500
TZOFFSETTO:-0400
TZNAME:EDT
DTSTART:20230312T070000
END:DAYLIGHT
BEGIN:STANDARD
TZOFFSETFROM:-0400
TZOFFSETTO:-0500
TZNAME:EST
DTSTART:20231105T060000
END:STANDARD
BEGIN:DAYLIGHT
TZOFFSETFROM:-0500
TZOFFSETTO:-0400
TZNAME:EDT
DTSTART:20240310T070000
END:DAYLIGHT
BEGIN:STANDARD
TZOFFSETFROM:-0400
TZOFFSETTO:-0500
TZNAME:EST
DTSTART:20241103T060000
END:STANDARD
END:VTIMEZONE
BEGIN:VEVENT
DTSTART;TZID=America/New_York:20230823T090000
DTEND;TZID=America/New_York:20230823T150000
DTSTAMP:20260422T044747
CREATED:20230712T151318Z
LAST-MODIFIED:20230712T151839Z
UID:12712-1692781200-1692802800@www.centerforhealthimpact.org
SUMMARY:Recovery Coach Training - Summer 2023
DESCRIPTION:Addiction and Recovery
URL:https://www.centerforhealthimpact.org/calendar/recovery-coach-training-summer-2023/
LOCATION:Zoom
CATEGORIES:Recovery Coach Training
END:VEVENT
BEGIN:VEVENT
DTSTART;TZID=America/New_York:20230828T090000
DTEND;TZID=America/New_York:20230828T160000
DTSTAMP:20260422T044747
CREATED:20230712T151936Z
LAST-MODIFIED:20230712T151936Z
UID:12723-1693213200-1693238400@www.centerforhealthimpact.org
SUMMARY:Recovery Coach Training - Summer 2023
DESCRIPTION:Recovery Coach Academy
URL:https://www.centerforhealthimpact.org/calendar/recovery-coach-training-summer-2023-2/
LOCATION:Zoom
CATEGORIES:Recovery Coach Training
END:VEVENT
BEGIN:VEVENT
DTSTART;TZID=America/New_York:20230829T090000
DTEND;TZID=America/New_York:20230829T160000
DTSTAMP:20260422T044747
CREATED:20230712T151956Z
LAST-MODIFIED:20230712T151956Z
UID:12726-1693299600-1693324800@www.centerforhealthimpact.org
SUMMARY:Recovery Coach Training - Summer 2023
DESCRIPTION:Recovery Coach Academy
URL:https://www.centerforhealthimpact.org/calendar/recovery-coach-training-summer-2023-3/
LOCATION:Zoom
CATEGORIES:Recovery Coach Training
END:VEVENT
BEGIN:VEVENT
DTSTART;TZID=America/New_York:20230830T090000
DTEND;TZID=America/New_York:20230830T160000
DTSTAMP:20260422T044747
CREATED:20230712T152017Z
LAST-MODIFIED:20230712T152017Z
UID:12729-1693386000-1693411200@www.centerforhealthimpact.org
SUMMARY:Recovery Coach Training - Summer 2023
DESCRIPTION:Recovery Coach Academy
URL:https://www.centerforhealthimpact.org/calendar/recovery-coach-training-summer-2023-4/
LOCATION:Zoom
CATEGORIES:Recovery Coach Training
END:VEVENT
BEGIN:VEVENT
DTSTART;TZID=America/New_York:20230831T090000
DTEND;TZID=America/New_York:20230831T160000
DTSTAMP:20260422T044747
CREATED:20230712T152040Z
LAST-MODIFIED:20230712T152040Z
UID:12732-1693472400-1693497600@www.centerforhealthimpact.org
SUMMARY:Recovery Coach Training - Summer 2023
DESCRIPTION:Recovery Coach Academy
URL:https://www.centerforhealthimpact.org/calendar/recovery-coach-training-summer-2023-5/
LOCATION:Zoom
CATEGORIES:Recovery Coach Training
END:VEVENT
END:VCALENDAR