BEGIN:VCALENDAR
VERSION:2.0
PRODID:-//Center for Health Impact - ECPv6.15.20//NONSGML v1.0//EN
CALSCALE:GREGORIAN
METHOD:PUBLISH
X-ORIGINAL-URL:https://www.centerforhealthimpact.org
X-WR-CALDESC:Events for Center for Health Impact
REFRESH-INTERVAL;VALUE=DURATION:PT1H
X-Robots-Tag:noindex
X-PUBLISHED-TTL:PT1H
BEGIN:VTIMEZONE
TZID:America/New_York
BEGIN:DAYLIGHT
TZOFFSETFROM:-0500
TZOFFSETTO:-0400
TZNAME:EDT
DTSTART:20230312T070000
END:DAYLIGHT
BEGIN:STANDARD
TZOFFSETFROM:-0400
TZOFFSETTO:-0500
TZNAME:EST
DTSTART:20231105T060000
END:STANDARD
BEGIN:DAYLIGHT
TZOFFSETFROM:-0500
TZOFFSETTO:-0400
TZNAME:EDT
DTSTART:20240310T070000
END:DAYLIGHT
BEGIN:STANDARD
TZOFFSETFROM:-0400
TZOFFSETTO:-0500
TZNAME:EST
DTSTART:20241103T060000
END:STANDARD
BEGIN:DAYLIGHT
TZOFFSETFROM:-0500
TZOFFSETTO:-0400
TZNAME:EDT
DTSTART:20250309T070000
END:DAYLIGHT
BEGIN:STANDARD
TZOFFSETFROM:-0400
TZOFFSETTO:-0500
TZNAME:EST
DTSTART:20251102T060000
END:STANDARD
END:VTIMEZONE
BEGIN:VEVENT
DTSTART;TZID=America/New_York:20240306T090000
DTEND;TZID=America/New_York:20240306T123000
DTSTAMP:20260419T221159
CREATED:20231030T173623Z
LAST-MODIFIED:20231030T173623Z
UID:13206-1709715600-1709728200@www.centerforhealthimpact.org
SUMMARY:Capacitación De Asesores Para La Recuperación - Invierno 2024
DESCRIPTION:Humildad cultural
URL:https://www.centerforhealthimpact.org/calendar/capacitacion-de-asesores-para-la-recuperacion-invierno-2024-11/
LOCATION:Zoom
CATEGORIES:Recovery Coach Training
END:VEVENT
BEGIN:VEVENT
DTSTART;TZID=America/New_York:20240307T090000
DTEND;TZID=America/New_York:20240307T123000
DTSTAMP:20260419T221159
CREATED:20231030T173710Z
LAST-MODIFIED:20231030T173710Z
UID:13209-1709802000-1709814600@www.centerforhealthimpact.org
SUMMARY:Capacitación De Asesores Para La Recuperación - Invierno 2024
DESCRIPTION:Entrevista motivacional
URL:https://www.centerforhealthimpact.org/calendar/capacitacion-de-asesores-para-la-recuperacion-invierno-2024-12/
LOCATION:Zoom
CATEGORIES:Recovery Coach Training
END:VEVENT
BEGIN:VEVENT
DTSTART;TZID=America/New_York:20240507T090000
DTEND;TZID=America/New_York:20240507T150000
DTSTAMP:20260419T221159
CREATED:20240401T182656Z
LAST-MODIFIED:20240401T182656Z
UID:13297-1715072400-1715094000@www.centerforhealthimpact.org
SUMMARY:Recovery Coach Training - Spring 2024
DESCRIPTION:Addiction and Recovery
URL:https://www.centerforhealthimpact.org/calendar/recovery-coach-training-summer-2024/
LOCATION:Zoom
CATEGORIES:Recovery Coach Training
END:VEVENT
BEGIN:VEVENT
DTSTART;TZID=America/New_York:20240514T090000
DTEND;TZID=America/New_York:20240514T123000
DTSTAMP:20260419T221159
CREATED:20240401T182745Z
LAST-MODIFIED:20240401T182745Z
UID:13300-1715677200-1715689800@www.centerforhealthimpact.org
SUMMARY:Recovery Coach Training - Spring 2024
DESCRIPTION:Mental Health
URL:https://www.centerforhealthimpact.org/calendar/recovery-coach-training-summer-2024-2/
LOCATION:Zoom
CATEGORIES:Recovery Coach Training
END:VEVENT
BEGIN:VEVENT
DTSTART;TZID=America/New_York:20240520T090000
DTEND;TZID=America/New_York:20240520T163000
DTSTAMP:20260419T221159
CREATED:20240401T182845Z
LAST-MODIFIED:20240401T182845Z
UID:13303-1716195600-1716222600@www.centerforhealthimpact.org
SUMMARY:Recovery Coach Training - Spring 2024
DESCRIPTION:Recovery Coach Academy
URL:https://www.centerforhealthimpact.org/calendar/recovery-coach-training-summer-2024-3/
LOCATION:Zoom
CATEGORIES:Recovery Coach Training
END:VEVENT
BEGIN:VEVENT
DTSTART;TZID=America/New_York:20240521T090000
DTEND;TZID=America/New_York:20240521T163000
DTSTAMP:20260419T221159
CREATED:20240401T182917Z
LAST-MODIFIED:20240401T182917Z
UID:13306-1716282000-1716309000@www.centerforhealthimpact.org
SUMMARY:Recovery Coach Training - Spring 2024
DESCRIPTION:Recovery Coach Academy
URL:https://www.centerforhealthimpact.org/calendar/recovery-coach-training-summer-2024-4/
LOCATION:Zoom
CATEGORIES:Recovery Coach Training
END:VEVENT
BEGIN:VEVENT
DTSTART;TZID=America/New_York:20240522T090000
DTEND;TZID=America/New_York:20240522T163000
DTSTAMP:20260419T221159
CREATED:20240401T182947Z
LAST-MODIFIED:20240401T182947Z
UID:13309-1716368400-1716395400@www.centerforhealthimpact.org
SUMMARY:Recovery Coach Training - Spring 2024
DESCRIPTION:Recovery Coach Academy
URL:https://www.centerforhealthimpact.org/calendar/recovery-coach-training-summer-2024-5/
LOCATION:Zoom
CATEGORIES:Recovery Coach Training
END:VEVENT
BEGIN:VEVENT
DTSTART;TZID=America/New_York:20240523T090000
DTEND;TZID=America/New_York:20240523T163000
DTSTAMP:20260419T221159
CREATED:20240401T183016Z
LAST-MODIFIED:20240401T183016Z
UID:13312-1716454800-1716481800@www.centerforhealthimpact.org
SUMMARY:Recovery Coach Training - Spring 2024
DESCRIPTION:Recovery Coach Academy
URL:https://www.centerforhealthimpact.org/calendar/recovery-coach-training-summer-2024-6/
LOCATION:Zoom
CATEGORIES:Recovery Coach Training
END:VEVENT
BEGIN:VEVENT
DTSTART;TZID=America/New_York:20240524T090000
DTEND;TZID=America/New_York:20240524T163000
DTSTAMP:20260419T221159
CREATED:20240401T183046Z
LAST-MODIFIED:20240401T183046Z
UID:13315-1716541200-1716568200@www.centerforhealthimpact.org
SUMMARY:Recovery Coach Training - Spring 2024
DESCRIPTION:Recovery Coach Academy
URL:https://www.centerforhealthimpact.org/calendar/recovery-coach-training-summer-2024-7/
LOCATION:Zoom
CATEGORIES:Recovery Coach Training
END:VEVENT
BEGIN:VEVENT
DTSTART;TZID=America/New_York:20240610T090000
DTEND;TZID=America/New_York:20240610T163000
DTSTAMP:20260419T221159
CREATED:20240401T183144Z
LAST-MODIFIED:20240401T183144Z
UID:13318-1718010000-1718037000@www.centerforhealthimpact.org
SUMMARY:Recovery Coach Training - Spring 2024
DESCRIPTION:Ethical Considerations
URL:https://www.centerforhealthimpact.org/calendar/recovery-coach-training-summer-2024-8/
LOCATION:Zoom
CATEGORIES:Recovery Coach Training
END:VEVENT
BEGIN:VEVENT
DTSTART;TZID=America/New_York:20240611T090000
DTEND;TZID=America/New_York:20240611T163000
DTSTAMP:20260419T221159
CREATED:20240401T183210Z
LAST-MODIFIED:20240401T183210Z
UID:13321-1718096400-1718123400@www.centerforhealthimpact.org
SUMMARY:Recovery Coach Training - Spring 2024
DESCRIPTION:Ethical Considerations
URL:https://www.centerforhealthimpact.org/calendar/recovery-coach-training-summer-2024-9/
LOCATION:Zoom
CATEGORIES:Recovery Coach Training
END:VEVENT
BEGIN:VEVENT
DTSTART;TZID=America/New_York:20240612T090000
DTEND;TZID=America/New_York:20240612T140000
DTSTAMP:20260419T221159
CREATED:20240401T183242Z
LAST-MODIFIED:20240401T183242Z
UID:13324-1718182800-1718200800@www.centerforhealthimpact.org
SUMMARY:Recovery Coach Training - Spring 2024
DESCRIPTION:Ethical Considerations
URL:https://www.centerforhealthimpact.org/calendar/recovery-coach-training-summer-2024-10/
LOCATION:Zoom
CATEGORIES:Recovery Coach Training
END:VEVENT
BEGIN:VEVENT
DTSTART;TZID=America/New_York:20240618T090000
DTEND;TZID=America/New_York:20240618T123000
DTSTAMP:20260419T221159
CREATED:20240401T183335Z
LAST-MODIFIED:20240401T183335Z
UID:13327-1718701200-1718713800@www.centerforhealthimpact.org
SUMMARY:Recovery Coach Training - Spring 2024
DESCRIPTION:Cultural Humility
URL:https://www.centerforhealthimpact.org/calendar/recovery-coach-training-summer-2024-11/
LOCATION:Zoom
CATEGORIES:Recovery Coach Training
END:VEVENT
BEGIN:VEVENT
DTSTART;TZID=America/New_York:20240625T090000
DTEND;TZID=America/New_York:20240625T123000
DTSTAMP:20260419T221159
CREATED:20240401T183418Z
LAST-MODIFIED:20240401T183418Z
UID:13330-1719306000-1719318600@www.centerforhealthimpact.org
SUMMARY:Recovery Coach Training - Spring 2024
DESCRIPTION:Motivational Interviewing
URL:https://www.centerforhealthimpact.org/calendar/recovery-coach-training-summer-2024-12/
LOCATION:Zoom
CATEGORIES:Recovery Coach Training
END:VEVENT
END:VCALENDAR